BEGIN:VCALENDAR
VERSION:2.0
PRODID:-//Carrefour de l&#039;entreprenariat - ECPv6.15.20//NONSGML v1.0//EN
CALSCALE:GREGORIAN
METHOD:PUBLISH
X-ORIGINAL-URL:https://carrefour-entrepreneuriat.fr
X-WR-CALDESC:Évènements pour Carrefour de l&#039;entreprenariat
REFRESH-INTERVAL;VALUE=DURATION:PT1H
X-Robots-Tag:noindex
X-PUBLISHED-TTL:PT1H
BEGIN:VTIMEZONE
TZID:Europe/Paris
BEGIN:DAYLIGHT
TZOFFSETFROM:+0100
TZOFFSETTO:+0200
TZNAME:CEST
DTSTART:20240331T010000
END:DAYLIGHT
BEGIN:STANDARD
TZOFFSETFROM:+0200
TZOFFSETTO:+0100
TZNAME:CET
DTSTART:20241027T010000
END:STANDARD
BEGIN:DAYLIGHT
TZOFFSETFROM:+0100
TZOFFSETTO:+0200
TZNAME:CEST
DTSTART:20250330T010000
END:DAYLIGHT
BEGIN:STANDARD
TZOFFSETFROM:+0200
TZOFFSETTO:+0100
TZNAME:CET
DTSTART:20251026T010000
END:STANDARD
BEGIN:DAYLIGHT
TZOFFSETFROM:+0100
TZOFFSETTO:+0200
TZNAME:CEST
DTSTART:20260329T010000
END:DAYLIGHT
BEGIN:STANDARD
TZOFFSETFROM:+0200
TZOFFSETTO:+0100
TZNAME:CET
DTSTART:20261025T010000
END:STANDARD
END:VTIMEZONE
BEGIN:VEVENT
DTSTART;TZID=Europe/Paris:20250204T140000
DTEND;TZID=Europe/Paris:20250204T170000
DTSTAMP:20260421T071631
CREATED:20250117T084641Z
LAST-MODIFIED:20250203T141039Z
UID:1919-1738677600-1738688400@carrefour-entrepreneuriat.fr
SUMMARY:Venez créer un goodies en 3D
DESCRIPTION:Thématique du jour : modélisation 3D. \nVous avez des inspirations créatives d’objet ? Vous souhaitez créer un prototype de votre produit ? La modélisation vous semble compliquée ? Venez apprendre qu’un néophyte peut aussi faire des objets en 3D. \n\nComprendre les principes de base de la modélisation 3D.\nApprendre à utiliser un logiciel de modélisation 3D.\nCréer des objets simples en 3D.\nApprendre à exporter les modèles pour des applications spécifiques (impression 3D\, animation\, jeux vidéo\, etc.).
URL:https://carrefour-entrepreneuriat.fr/evenement/atelier-fablab/
LOCATION:CCI de Vaucluse\, 46 cours Jean Jaurès\, Avignon\, 84000\, France
CATEGORIES:Fablab
ATTACH;FMTTYPE=image/png:https://carrefour-entrepreneuriat.fr/wp-content/uploads/2025/01/FABLAB-Fabrication-Carrefour-entrepreneuriat.png
ORGANIZER;CN="CCI Vaucluse":MAILTO:lfulgini@vaucluse.cci.fr
END:VEVENT
END:VCALENDAR