BEGIN:VCALENDAR
VERSION:2.0
PRODID:-//Carrefour de l&#039;entreprenariat - ECPv6.15.20//NONSGML v1.0//EN
CALSCALE:GREGORIAN
METHOD:PUBLISH
X-ORIGINAL-URL:https://carrefour-entrepreneuriat.fr
X-WR-CALDESC:Évènements pour Carrefour de l&#039;entreprenariat
REFRESH-INTERVAL;VALUE=DURATION:PT1H
X-Robots-Tag:noindex
X-PUBLISHED-TTL:PT1H
BEGIN:VTIMEZONE
TZID:Europe/Paris
BEGIN:DAYLIGHT
TZOFFSETFROM:+0100
TZOFFSETTO:+0200
TZNAME:CEST
DTSTART:20240331T010000
END:DAYLIGHT
BEGIN:STANDARD
TZOFFSETFROM:+0200
TZOFFSETTO:+0100
TZNAME:CET
DTSTART:20241027T010000
END:STANDARD
BEGIN:DAYLIGHT
TZOFFSETFROM:+0100
TZOFFSETTO:+0200
TZNAME:CEST
DTSTART:20250330T010000
END:DAYLIGHT
BEGIN:STANDARD
TZOFFSETFROM:+0200
TZOFFSETTO:+0100
TZNAME:CET
DTSTART:20251026T010000
END:STANDARD
BEGIN:DAYLIGHT
TZOFFSETFROM:+0100
TZOFFSETTO:+0200
TZNAME:CEST
DTSTART:20260329T010000
END:DAYLIGHT
BEGIN:STANDARD
TZOFFSETFROM:+0200
TZOFFSETTO:+0100
TZNAME:CET
DTSTART:20261025T010000
END:STANDARD
END:VTIMEZONE
BEGIN:VEVENT
DTSTART;TZID=Europe/Paris:20250429T140000
DTEND;TZID=Europe/Paris:20250429T170000
DTSTAMP:20260421T034041
CREATED:20250117T091134Z
LAST-MODIFIED:20250416T124007Z
UID:1925-1745935200-1745946000@carrefour-entrepreneuriat.fr
SUMMARY:Créez et découpez votre petit logo autocollant vinyl
DESCRIPTION:Le thème de l’atelier du jour : Découpe de vinyle \nVenez tester une machine à commande numérique\, la découpeuse vinyle\, et créer votre propre autocollant. \n\nCréation d’un petit logo\nApprentissage avec Inkscape logiciel de vectorisation\nComment configurer le plotter découpe vinyle
URL:https://carrefour-entrepreneuriat.fr/evenement/atelier-fablab-decoupe-de-vinyl/
LOCATION:CCI de Vaucluse\, 46 cours Jean Jaurès\, Avignon\, 84000\, France
CATEGORIES:Fablab
ATTACH;FMTTYPE=image/png:https://carrefour-entrepreneuriat.fr/wp-content/uploads/2025/01/FABLAB-Fabrication-Carrefour-entrepreneuriat.png
ORGANIZER;CN="CCI Vaucluse":MAILTO:lfulgini@vaucluse.cci.fr
END:VEVENT
END:VCALENDAR