BEGIN:VCALENDAR
VERSION:2.0
PRODID:-//Carrefour de l&#039;entreprenariat - ECPv6.15.20//NONSGML v1.0//EN
CALSCALE:GREGORIAN
METHOD:PUBLISH
X-ORIGINAL-URL:https://carrefour-entrepreneuriat.fr
X-WR-CALDESC:Évènements pour Carrefour de l&#039;entreprenariat
REFRESH-INTERVAL;VALUE=DURATION:PT1H
X-Robots-Tag:noindex
X-PUBLISHED-TTL:PT1H
BEGIN:VTIMEZONE
TZID:Europe/Paris
BEGIN:DAYLIGHT
TZOFFSETFROM:+0100
TZOFFSETTO:+0200
TZNAME:CEST
DTSTART:20240331T010000
END:DAYLIGHT
BEGIN:STANDARD
TZOFFSETFROM:+0200
TZOFFSETTO:+0100
TZNAME:CET
DTSTART:20241027T010000
END:STANDARD
BEGIN:DAYLIGHT
TZOFFSETFROM:+0100
TZOFFSETTO:+0200
TZNAME:CEST
DTSTART:20250330T010000
END:DAYLIGHT
BEGIN:STANDARD
TZOFFSETFROM:+0200
TZOFFSETTO:+0100
TZNAME:CET
DTSTART:20251026T010000
END:STANDARD
BEGIN:DAYLIGHT
TZOFFSETFROM:+0100
TZOFFSETTO:+0200
TZNAME:CEST
DTSTART:20260329T010000
END:DAYLIGHT
BEGIN:STANDARD
TZOFFSETFROM:+0200
TZOFFSETTO:+0100
TZNAME:CET
DTSTART:20261025T010000
END:STANDARD
END:VTIMEZONE
BEGIN:VEVENT
DTSTART;TZID=Europe/Paris:20250520T090000
DTEND;TZID=Europe/Paris:20250520T120000
DTSTAMP:20260421T021006
CREATED:20250117T092655Z
LAST-MODIFIED:20250416T144623Z
UID:1952-1747731600-1747742400@carrefour-entrepreneuriat.fr
SUMMARY:Créez un objet personnalisé avec la découpe laser
DESCRIPTION:Thématique du jour : la découpe laser. \nAujourd’hui\, nous allons explorer le monde fascinant de la découpe laser et vous donner les clés pour réussir vos projets. Vous avez sûrement entendu parler de cette technologie révolutionnaire\, mais savez-vous vraiment comment elle fonctionne et comment l’exploiter au mieux ? \n\nApprendre à utiliser une découpeuse laser.\nCréer des objets personnalisés (panneaux\, maquettes\, bijoux\, etc.).\nDécouvrir les bases des fichiers vectoriels et des matériaux adaptés.
URL:https://carrefour-entrepreneuriat.fr/evenement/atelier-fablab-decoupe-laser/
LOCATION:Avenir 84 La Fabrique\, 82 B Route de Montfavet\, Avignon\, 84000\, France
CATEGORIES:Fablab
ATTACH;FMTTYPE=image/png:https://carrefour-entrepreneuriat.fr/wp-content/uploads/2025/01/FABLAB-Fabrication-Carrefour-entrepreneuriat.png
ORGANIZER;CN="CCI Vaucluse":MAILTO:lfulgini@vaucluse.cci.fr
END:VEVENT
END:VCALENDAR